BEGIN:VCALENDAR
VERSION:2.0
PRODID:-//jEvents 2.0 for Joomla//EN
CALSCALE:GREGORIAN
METHOD:PUBLISH
BEGIN:VEVENT
UID:0dd479bc13db9fede7b12ca2aa7cd4c3
CATEGORIES:Ham Radio Events, SMARC Club Events
CREATED:20230702T052305
SUMMARY:Winter Field Day
DESCRIPTION:<p>https://www.winterfieldday.com/</p><p></p>
DTSTAMP:20260423T101341
DTSTART;TZID=America/Phoenix:20240127T190000
DTEND;TZID=America/Phoenix:20240128T185900
SEQUENCE:0
TRANSP:OPAQUE
END:VEVENT
END:VCALENDAR