BEGIN:VCALENDAR
VERSION:2.0
PRODID:-//jEvents 2.0 for Joomla//EN
CALSCALE:GREGORIAN
METHOD:PUBLISH
BEGIN:VEVENT
UID:572b588f81c33ffd6eb67e3988d28888
CATEGORIES:SMARC Club Events
CREATED:20251209T220023
SUMMARY:SMARC Breakfast
DESCRIPTION:<div class="jev_evdt_desc"><p>Members of the Spirit Mountain Amateur Radio 
 Club and guests are invited to join face-to-face for our club breakfasts at
  Perkins Restaurant and Bakery.</p></div><div class="jev_evdt_location"><sp
 an class="location">Location </span>Perkins Restaurant &amp; Bakery, 2250 A
 Z-95, Bullhead City, AZ 86442</div>
DTSTAMP:20260419T204902
DTSTART;TZID=America/Phoenix:20251220T080000
SEQUENCE:0
TRANSP:OPAQUE
END:VEVENT
END:VCALENDAR